BEGIN:VCALENDAR
VERSION:2.0
PRODID:-//Best Fishing Places - ECPv6.3.5//NONSGML v1.0//EN
CALSCALE:GREGORIAN
METHOD:PUBLISH
X-ORIGINAL-URL:http://raimstudio.com/h/bfp
X-WR-CALDESC:Events for Best Fishing Places
REFRESH-INTERVAL;VALUE=DURATION:PT1H
X-Robots-Tag:noindex
X-PUBLISHED-TTL:PT1H
BEGIN:VTIMEZONE
TZID:UTC
BEGIN:STANDARD
TZOFFSETFROM:+0000
TZOFFSETTO:+0000
TZNAME:UTC
DTSTART:20210101T000000
END:STANDARD
END:VTIMEZONE
BEGIN:VEVENT
DTSTART;TZID=UTC:20210801T200000
DTEND;TZID=UTC:20210803T060000
DTSTAMP:20260425T150039
CREATED:20220922T033956Z
LAST-MODIFIED:20220922T033956Z
UID:15752-1627848000-1627970400@raimstudio.com
SUMMARY:2021 Deep Sea Fishing Trip 1 [8/1] – 12th Annual
DESCRIPTION:12th annual\nBestFishingPlaces.com\nDeep Sea Fishing Trip 1 \nLOCATION: H&M Landing\, San Diego CA.\nCHARTER BOAT: Relentless\nTYPE: 1.5 days – Offshore Freelance Tuna Fishing Trip\nSPECIES: Tuna(Yellowfin\, BlueFin) Yellowtail\, Dorado and more… \nDATE/TIME:\nLeaving Sunday night 8/1/2021 at 8pm returning Tuesday 8/3 at 6am.\nPRICE: $400\nDEPOSIT: $100 \nExtra offerings:\nMEAL PACKAGE: $30 ( All meals and snacks included. Does not include beverages ) \nSPOTS: 18 (limited Load)\nAVAILABLE: 0 [SOLD OUT] \nFULL PAYMENT IS DUE BEFORE \nMay 1st\, 2020 (payments made after please add $15) \nYOU CAN PAY IN FULL AT ANY TIME \nIncludes: spot on boat and if we get all 18 spots filled\, rod & reel rental.
URL:http://raimstudio.com/h/bfp/event/2021-deep-sea-fishing-trip-1-8-1-12th-annual/
LOCATION:H & M Landing – San Diego\, CA.\, 2803 Emerson Street\, San Diego\, CA\, 92106
CATEGORIES:Deep Sea Fishing Trips
ORGANIZER;CN="BestFishingPlaces.com":MAILTO:bestfishingplaces.com@gmail.com
END:VEVENT
END:VCALENDAR